BEGIN:VCALENDAR
VERSION:2.0
PRODID:-//pretix//pretix.eu//
BEGIN:VTIMEZONE
TZID:Europe/Berlin
BEGIN:STANDARD
DTSTART:20001029T040000
RRULE:FREQ=YEARLY;BYDAY=-1SU;BYMONTH=10
TZNAME:CET
TZOFFSETFROM:+0200
TZOFFSETTO:+0100
END:STANDARD
BEGIN:DAYLIGHT
DTSTART:20000326T030000
RRULE:FREQ=YEARLY;BYDAY=-1SU;BYMONTH=3
TZNAME:CEST
TZOFFSETFROM:+0100
TZOFFSETTO:+0200
END:DAYLIGHT
END:VTIMEZONE
BEGIN:VEVENT
UID:pretix-waldbuehne-melle-frau-holle-4673139@tickets.waldbuehne-melle.com
DTSTART;TZID=Europe/Berlin:20251214T150000
DTEND;TZID=Europe/Berlin:20251214T170000
DESCRIPTION:Tickets: https://tickets.waldbuehne-melle.com/frau-holle/467313
 9/\nEinlass: 14.12.2025 14:30\nVeranstalter: Waldbühne Melle e. V.
DTSTAMP:20260419T195616Z
LOCATION:Theater Melle\, Schürenkamp 14\, 49324 Melle
SUMMARY:Frau Holle
END:VEVENT
END:VCALENDAR
