BEGIN:VCALENDAR
VERSION:2.0
PRODID:-//pretix//pretix.eu//
BEGIN:VTIMEZONE
TZID:Europe/Berlin
BEGIN:STANDARD
DTSTART:20001029T040000
RRULE:FREQ=YEARLY;BYDAY=-1SU;BYMONTH=10
TZNAME:CET
TZOFFSETFROM:+0200
TZOFFSETTO:+0100
END:STANDARD
BEGIN:DAYLIGHT
DTSTART:20000326T030000
RRULE:FREQ=YEARLY;BYDAY=-1SU;BYMONTH=3
TZNAME:CEST
TZOFFSETFROM:+0100
TZOFFSETTO:+0200
END:DAYLIGHT
END:VTIMEZONE
BEGIN:VEVENT
UID:pretix-waldbuehne-melle-frau-holle-4746796@tickets.waldbuehne-melle.com
DTSTART;TZID=Europe/Berlin:20251221T110000
DTEND;TZID=Europe/Berlin:20251221T130000
DESCRIPTION:Tickets: https://tickets.waldbuehne-melle.com/frau-holle/474679
 6/\nEinlass: 21.12.2025 10:30\nVeranstalter: Waldbühne Melle e. V.
DTSTAMP:20260419T185311Z
LOCATION:Theater Melle\, Schürenkamp 14\, 49324 Melle
SUMMARY:Frau Holle - Zusatzvorstellung
END:VEVENT
END:VCALENDAR
