BEGIN:VCALENDAR
VERSION:2.0
PRODID:-//pretix//pretix.eu//
BEGIN:VTIMEZONE
TZID:Europe/Berlin
BEGIN:STANDARD
DTSTART:20001029T040000
RRULE:FREQ=YEARLY;BYDAY=-1SU;BYMONTH=10
TZNAME:CET
TZOFFSETFROM:+0200
TZOFFSETTO:+0100
END:STANDARD
BEGIN:DAYLIGHT
DTSTART:20000326T030000
RRULE:FREQ=YEARLY;BYDAY=-1SU;BYMONTH=3
TZNAME:CEST
TZOFFSETFROM:+0100
TZOFFSETTO:+0200
END:DAYLIGHT
END:VTIMEZONE
BEGIN:VEVENT
UID:pretix-waldbuehne-melle-robin-hood-4841773@tickets.waldbuehne-melle.com
DTSTART;TZID=Europe/Berlin:20260708T190000
DTEND;TZID=Europe/Berlin:20260708T200000
DESCRIPTION:Tickets: https://tickets.waldbuehne-melle.com/robin-hood/484177
 3/\nEinlass: 08.07.2026 18:00\nVeranstalter: Waldbühne Melle e. V.
DTSTAMP:20260419T171249Z
LOCATION:Waldbühne Melle e.V.\, Bergstraße 19\, 49324 Melle
SUMMARY:Robin Hood Junior - Das Abenteuermusical
END:VEVENT
END:VCALENDAR
